BEGIN:VCALENDAR
PRODID:-//eluceo/ical//2.0/EN
VERSION:2.0
CALSCALE:GREGORIAN
BEGIN:VEVENT
UID:a27b6ae6e669c67e039935b84e9ec4bc
DTSTAMP:20260424T083029Z
SUMMARY:XVIII CONGRESO DEL DISTRITO 2202\, 15-16 MAYO\, SALOU
DESCRIPTION:
URL:https://rotary2202.es/en/agenda/show/804
DTSTART;TZID=Europe/Zurich:20260515T160000
DTEND;TZID=Europe/Zurich:20260516T235500
LOCATION:SALOU\, TARRAGONA
CATEGORIES:Rotary
END:VEVENT
BEGIN:VTIMEZONE
TZID:Europe/Zurich
BEGIN:DAYLIGHT
DTSTART:20260515T160000
TZNAME:CEST
TZOFFSETTO:+0200
TZOFFSETFROM:+0200
END:DAYLIGHT
END:VTIMEZONE
END:VCALENDAR
