BEGIN:VCALENDAR
PRODID:-//eluceo/ical//2.0/EN
VERSION:2.0
CALSCALE:GREGORIAN
BEGIN:VEVENT
UID:65897c758aed2c820aa093ca61569de8
DTSTAMP:20260424T083735Z
SUMMARY:XVII PREMI PROTAGONISTES DEL DEMÀ
DESCRIPTION:
URL:https://rotarylleida.org/en/agenda/show/830
DTSTART;TZID=Europe/Zurich:20260424T190000
DTEND;TZID=Europe/Zurich:20260424T190000
LOCATION:Clínica ILO oftalmologia Lleida
CATEGORIES:Rotary
END:VEVENT
BEGIN:VTIMEZONE
TZID:Europe/Zurich
BEGIN:DAYLIGHT
DTSTART:20260424T190000
TZNAME:CEST
TZOFFSETTO:+0200
TZOFFSETFROM:+0200
END:DAYLIGHT
END:VTIMEZONE
END:VCALENDAR
