BEGIN:VCALENDAR
PRODID:-//eluceo/ical//2.0/EN
VERSION:2.0
CALSCALE:GREGORIAN
BEGIN:VEVENT
UID:5741c53be032771a1e3ba0a382950420
DTSTAMP:20260422T124631Z
SUMMARY:CAMBIO DE COLLARES CLUB ROTARIO MONTEREY CUMBRES (MÉXICO)
DESCRIPTION:Sitio web: https://alfasociales.com/Rotario/\nOrador(es): Dra. 
 Yeyetsy Azuara
URL:https://rotarylleida.org/es/agenda/show/181
DTSTART;TZID=Europe/Zurich:20230629T084800
DTEND;TZID=Europe/Zurich:20230629T084800
LOCATION:Club Rotario Monterreey Cumbres (Presidenta 2023-2024)
CATEGORIES:Rotary
END:VEVENT
BEGIN:VTIMEZONE
TZID:Europe/Zurich
BEGIN:DAYLIGHT
DTSTART:20230629T084800
TZNAME:CEST
TZOFFSETTO:+0200
TZOFFSETFROM:+0200
END:DAYLIGHT
END:VTIMEZONE
END:VCALENDAR
