BEGIN:VCALENDAR
PRODID:-//eluceo/ical//2.0/EN
VERSION:2.0
CALSCALE:GREGORIAN
BEGIN:VEVENT
UID:1ee2071c35d911c20f89de3bd6bfa172
DTSTAMP:20260423T125042Z
SUMMARY:Rotary European Summit Bonn 2024
DESCRIPTION:Sitio web: https://rotary-european-summit.org/\nOrador(es): 
URL:https://rotary2202.es/es/agenda/show/417
DTSTART;TZID=Europe/Zurich:20240830T000000
DTEND;TZID=Europe/Zurich:20240901T235500
LOCATION:Bonn\, Alemania
CATEGORIES:Rotary
END:VEVENT
BEGIN:VTIMEZONE
TZID:Europe/Zurich
BEGIN:DAYLIGHT
DTSTART:20240830T000000
TZNAME:CEST
TZOFFSETTO:+0200
TZOFFSETFROM:+0200
END:DAYLIGHT
END:VTIMEZONE
END:VCALENDAR
