BEGIN:VCALENDAR
PRODID:-//eluceo/ical//2.0/EN
VERSION:2.0
CALSCALE:GREGORIAN
BEGIN:VEVENT
UID:61f9c9b4e971e7c18627c6a7d9a13f4a
DTSTAMP:20260420T091421Z
SUMMARY:JORNADA DE JOVENTUT Y CANVI DE COLLARS AMB VISITA DE LA GOVERNADORA
  AL RC DE LLEIDA
DESCRIPTION:
URL:https://rotarylleida.org/es/agenda/show/481
DTSTART;TZID=Europe/Zurich:20240926T193000
DTEND;TZID=Europe/Zurich:20240926T193000
LOCATION:Hotel NH Pirineus\, Gran Passeig de Ronda\, Lleida\, Sala Vall d'A
 ran
CATEGORIES:Rotary
END:VEVENT
BEGIN:VTIMEZONE
TZID:Europe/Zurich
BEGIN:DAYLIGHT
DTSTART:20240926T193000
TZNAME:CEST
TZOFFSETTO:+0200
TZOFFSETFROM:+0200
END:DAYLIGHT
END:VTIMEZONE
END:VCALENDAR
