BEGIN:VCALENDAR
PRODID:-//eluceo/ical//2.0/EN
VERSION:2.0
CALSCALE:GREGORIAN
BEGIN:VEVENT
UID:a5fd7129887bae6900c5942cbee1133d
DTSTAMP:20260423T222908Z
SUMMARY:ASAMBLEA DISTRITO 2202 - ROTARACT
DESCRIPTION:Sitio web: https://forms.gle/9KFeEfmjx1ViUHn27
URL:https://rotary2202.es/es/agenda/show/656
DTSTART;TZID=Europe/Zurich:20250321T183000
DTEND;TZID=Europe/Zurich:20250321T183000
LOCATION:Hotel SB Icària. Barcelona
CATEGORIES:Rotary
END:VEVENT
BEGIN:VTIMEZONE
TZID:Europe/Zurich
BEGIN:STANDARD
DTSTART:20250321T183000
TZNAME:CET
TZOFFSETTO:+0100
TZOFFSETFROM:+0100
END:STANDARD
END:VTIMEZONE
END:VCALENDAR
