BEGIN:VCALENDAR
PRODID:-//eluceo/ical//2.0/EN
VERSION:2.0
CALSCALE:GREGORIAN
BEGIN:VEVENT
UID:413d8ce8adda0a5bc654dac54129a330
DTSTAMP:20260423T205738Z
SUMMARY:CONVIVENCIA TRIDISTRITAL ROTARACT 2025
DESCRIPTION:
URL:https://rotary2202.es/es/agenda/show/657
DTSTART;TZID=Europe/Zurich:20250404T000000
DTEND;TZID=Europe/Zurich:20250406T235500
LOCATION:Albacete
CATEGORIES:Rotary
END:VEVENT
BEGIN:VTIMEZONE
TZID:Europe/Zurich
BEGIN:DAYLIGHT
DTSTART:20250404T000000
TZNAME:CEST
TZOFFSETTO:+0200
TZOFFSETFROM:+0200
END:DAYLIGHT
END:VTIMEZONE
END:VCALENDAR
