BEGIN:VCALENDAR
PRODID:-//eluceo/ical//2.0/EN
VERSION:2.0
CALSCALE:GREGORIAN
BEGIN:VEVENT
UID:51550e31fe9e8285eab43500a96aa6ca
DTSTAMP:20260423T124831Z
SUMMARY:CEREMONIA CAMBIO DE GOBERNADOR 2025-2026
DESCRIPTION:
URL:https://rotary2202.es/es/agenda/show/707
DTSTART;TZID=Europe/Zurich:20250705T193000
DTEND;TZID=Europe/Zurich:20250705T193000
LOCATION:RESTAURANTE CASA MIRET\, Rambla Nova 34\, Tarragona
CATEGORIES:Rotary
END:VEVENT
BEGIN:VTIMEZONE
TZID:Europe/Zurich
BEGIN:DAYLIGHT
DTSTART:20250705T193000
TZNAME:CEST
TZOFFSETTO:+0200
TZOFFSETFROM:+0200
END:DAYLIGHT
END:VTIMEZONE
END:VCALENDAR
