BEGIN:VCALENDAR
PRODID:-//eluceo/ical//2.0/EN
VERSION:2.0
CALSCALE:GREGORIAN
BEGIN:VEVENT
UID:7abcf416d860d18f3c2d9a238f2a90c3
DTSTAMP:20260423T112132Z
SUMMARY:ROTARACT:  FIESTA / TARDEO EN BARCELONA Y CAMBIO DE COLLARES
DESCRIPTION:
URL:https://rotary2202.es/es/agenda/show/737
DTSTART;TZID=Europe/Zurich:20250919T183000
DTEND;TZID=Europe/Zurich:20250919T183000
LOCATION:Rooftop "Terraza 20" Pg. de Gràcia\, 20\, L'Eixample\, Barcelona
CATEGORIES:Rotary
END:VEVENT
BEGIN:VTIMEZONE
TZID:Europe/Zurich
BEGIN:DAYLIGHT
DTSTART:20250919T183000
TZNAME:CEST
TZOFFSETTO:+0200
TZOFFSETFROM:+0200
END:DAYLIGHT
END:VTIMEZONE
END:VCALENDAR
