BEGIN:VCALENDAR
PRODID:-//eluceo/ical//2.0/EN
VERSION:2.0
CALSCALE:GREGORIAN
BEGIN:VEVENT
UID:3d098008749c12cb63ff86841480fb21
DTSTAMP:20260423T090400Z
SUMMARY:SEMINARIO DISTRITAL: MATARÓ
DESCRIPTION:
URL:https://rotary2202.es/es/agenda/show/739
DTSTART;TZID=Europe/Zurich:20251025T093000
DTEND;TZID=Europe/Zurich:20251025T093000
LOCATION:Parc TecnoCampus Mataró-Maresme\, Carrer d'Ernest Lluch\, 32\, 08
 302 Mataró\, Barcelona
CATEGORIES:Rotary
END:VEVENT
BEGIN:VTIMEZONE
TZID:Europe/Zurich
BEGIN:DAYLIGHT
DTSTART:20251025T093000
TZNAME:CEST
TZOFFSETTO:+0200
TZOFFSETFROM:+0200
END:DAYLIGHT
END:VTIMEZONE
END:VCALENDAR
