BEGIN:VCALENDAR
PRODID:-//eluceo/ical//2.0/EN
VERSION:2.0
CALSCALE:GREGORIAN
BEGIN:VEVENT
UID:c5de395ed1871838219798e3b2adabaa
DTSTAMP:20260423T100725Z
SUMMARY:DÍA INTERNACIONAL DE LA PAZ
DESCRIPTION:
URL:https://rotary2202.es/es/agenda/show/741
DTSTART;TZID=Europe/Zurich:20250921T000000
DTEND;TZID=Europe/Zurich:20250921T000000
LOCATION:Distrito 2202
CATEGORIES:Rotary
END:VEVENT
BEGIN:VTIMEZONE
TZID:Europe/Zurich
BEGIN:DAYLIGHT
DTSTART:20250921T000000
TZNAME:CEST
TZOFFSETTO:+0200
TZOFFSETFROM:+0200
END:DAYLIGHT
END:VTIMEZONE
END:VCALENDAR
