BEGIN:VCALENDAR
PRODID:-//eluceo/ical//2.0/EN
VERSION:2.0
CALSCALE:GREGORIAN
BEGIN:VEVENT
UID:14cf8714c3eda7429d98792e571d42aa
DTSTAMP:20260423T210241Z
SUMMARY:INSTALACIÓN 1ºPOSTE DE LA PAZ EN BARCELONA
DESCRIPTION:
URL:https://rotary2202.es/es/agenda/show/779
DTSTART;TZID=Europe/Zurich:20251124T180000
DTEND;TZID=Europe/Zurich:20251124T180000
LOCATION:Patio Gótico\, Palau Pignatelli\, c/ Arcs\, 5\, Barcelona
CATEGORIES:Rotary
END:VEVENT
BEGIN:VTIMEZONE
TZID:Europe/Zurich
BEGIN:STANDARD
DTSTART:20251124T180000
TZNAME:CET
TZOFFSETTO:+0100
TZOFFSETFROM:+0100
END:STANDARD
END:VTIMEZONE
END:VCALENDAR
